BEGIN:VCALENDAR
VERSION:2.0
PRODID:-//B! Alemannia Bonn - ECPv6.15.20//NONSGML v1.0//EN
CALSCALE:GREGORIAN
METHOD:PUBLISH
X-ORIGINAL-URL:https://www.alemannia-bonn.de
X-WR-CALDESC:Veranstaltungen für B! Alemannia Bonn
REFRESH-INTERVAL;VALUE=DURATION:PT1H
X-Robots-Tag:noindex
X-PUBLISHED-TTL:PT1H
BEGIN:VTIMEZONE
TZID:Europe/Berlin
BEGIN:DAYLIGHT
TZOFFSETFROM:+0100
TZOFFSETTO:+0200
TZNAME:CEST
DTSTART:20210328T010000
END:DAYLIGHT
BEGIN:STANDARD
TZOFFSETFROM:+0200
TZOFFSETTO:+0100
TZNAME:CET
DTSTART:20211031T010000
END:STANDARD
BEGIN:DAYLIGHT
TZOFFSETFROM:+0100
TZOFFSETTO:+0200
TZNAME:CEST
DTSTART:20220327T010000
END:DAYLIGHT
BEGIN:STANDARD
TZOFFSETFROM:+0200
TZOFFSETTO:+0100
TZNAME:CET
DTSTART:20221030T010000
END:STANDARD
BEGIN:DAYLIGHT
TZOFFSETFROM:+0100
TZOFFSETTO:+0200
TZNAME:CEST
DTSTART:20230326T010000
END:DAYLIGHT
BEGIN:STANDARD
TZOFFSETFROM:+0200
TZOFFSETTO:+0100
TZNAME:CET
DTSTART:20231029T010000
END:STANDARD
END:VTIMEZONE
BEGIN:VEVENT
DTSTART;VALUE=DATE:20220609
DTEND;VALUE=DATE:20220613
DTSTAMP:20260423T114908
CREATED:20220320T110627Z
LAST-MODIFIED:20220320T110627Z
UID:2216-1654732800-1655078399@www.alemannia-bonn.de
SUMMARY:Aktivenurlaub
DESCRIPTION:
URL:https://www.alemannia-bonn.de/event/aktivenurlaub/
END:VEVENT
BEGIN:VEVENT
DTSTART;TZID=Europe/Berlin:20220613T200000
DTEND;TZID=Europe/Berlin:20220613T220000
DTSTAMP:20260423T114908
CREATED:20220320T110652Z
LAST-MODIFIED:20220320T113001Z
UID:2218-1655150400-1655157600@www.alemannia-bonn.de
SUMMARY:5. ordentliche Versammlung
DESCRIPTION:
URL:https://www.alemannia-bonn.de/event/5-ordentliche-versammlung-2/
END:VEVENT
BEGIN:VEVENT
DTSTART;TZID=Europe/Berlin:20220614T200000
DTEND;TZID=Europe/Berlin:20220614T220000
DTSTAMP:20260423T114908
CREATED:20220320T114203Z
LAST-MODIFIED:20220320T114203Z
UID:2220-1655236800-1655244000@www.alemannia-bonn.de
SUMMARY:Burschenkränzchen mit AH Hacker
DESCRIPTION:
URL:https://www.alemannia-bonn.de/event/burschenkraenzchen-mit-ah-hacker/
END:VEVENT
BEGIN:VEVENT
DTSTART;VALUE=DATE:20220617
DTEND;VALUE=DATE:20220620
DTSTAMP:20260423T114908
CREATED:20220320T114229Z
LAST-MODIFIED:20220320T114229Z
UID:2222-1655424000-1655683199@www.alemannia-bonn.de
SUMMARY:Stiftungsfest
DESCRIPTION:
URL:https://www.alemannia-bonn.de/event/stiftungsfest/
END:VEVENT
BEGIN:VEVENT
DTSTART;VALUE=DATE:20220625
DTEND;VALUE=DATE:20220626
DTSTAMP:20260423T114908
CREATED:20220320T114253Z
LAST-MODIFIED:20220320T114253Z
UID:2224-1656115200-1656201599@www.alemannia-bonn.de
SUMMARY:Aktivensporttag (Paintball)
DESCRIPTION:
URL:https://www.alemannia-bonn.de/event/aktivensporttag-paintball/
END:VEVENT
BEGIN:VEVENT
DTSTART;TZID=Europe/Berlin:20220627T200000
DTEND;TZID=Europe/Berlin:20220627T220000
DTSTAMP:20260423T114908
CREATED:20220320T114315Z
LAST-MODIFIED:20220320T114315Z
UID:2226-1656360000-1656367200@www.alemannia-bonn.de
SUMMARY:Wahlversammlung
DESCRIPTION:
URL:https://www.alemannia-bonn.de/event/wahlversammlung-2/
END:VEVENT
END:VCALENDAR