BEGIN:VCALENDAR
VERSION:2.0
PRODID:-//B! Alemannia Bonn - ECPv6.15.20//NONSGML v1.0//EN
CALSCALE:GREGORIAN
METHOD:PUBLISH
X-ORIGINAL-URL:https://www.alemannia-bonn.de
X-WR-CALDESC:Veranstaltungen für B! Alemannia Bonn
REFRESH-INTERVAL;VALUE=DURATION:PT1H
X-Robots-Tag:noindex
X-PUBLISHED-TTL:PT1H
BEGIN:VTIMEZONE
TZID:Europe/Berlin
BEGIN:DAYLIGHT
TZOFFSETFROM:+0100
TZOFFSETTO:+0200
TZNAME:CEST
DTSTART:20210328T010000
END:DAYLIGHT
BEGIN:STANDARD
TZOFFSETFROM:+0200
TZOFFSETTO:+0100
TZNAME:CET
DTSTART:20211031T010000
END:STANDARD
BEGIN:DAYLIGHT
TZOFFSETFROM:+0100
TZOFFSETTO:+0200
TZNAME:CEST
DTSTART:20220327T010000
END:DAYLIGHT
BEGIN:STANDARD
TZOFFSETFROM:+0200
TZOFFSETTO:+0100
TZNAME:CET
DTSTART:20221030T010000
END:STANDARD
BEGIN:DAYLIGHT
TZOFFSETFROM:+0100
TZOFFSETTO:+0200
TZNAME:CEST
DTSTART:20230326T010000
END:DAYLIGHT
BEGIN:STANDARD
TZOFFSETFROM:+0200
TZOFFSETTO:+0100
TZNAME:CET
DTSTART:20231029T010000
END:STANDARD
END:VTIMEZONE
BEGIN:VEVENT
DTSTART;TZID=Europe/Berlin:20220401T200000
DTEND;TZID=Europe/Berlin:20220401T230000
DTSTAMP:20260423T143655
CREATED:20220320T105711Z
LAST-MODIFIED:20220320T105711Z
UID:2178-1648843200-1648854000@www.alemannia-bonn.de
SUMMARY:Semesterantrunk
DESCRIPTION:
URL:https://www.alemannia-bonn.de/event/semesterantrunk-2/
END:VEVENT
BEGIN:VEVENT
DTSTART;TZID=Europe/Berlin:20220404T200000
DTEND;TZID=Europe/Berlin:20220404T220000
DTSTAMP:20260423T143655
CREATED:20220320T105824Z
LAST-MODIFIED:20220320T105824Z
UID:2180-1649102400-1649109600@www.alemannia-bonn.de
SUMMARY:Antritts- und Entlastungsversammlung
DESCRIPTION:
URL:https://www.alemannia-bonn.de/event/antritts-und-entlastungsversammlung-2/
LOCATION:a.d.H.
END:VEVENT
BEGIN:VEVENT
DTSTART;TZID=Europe/Berlin:20220408T190000
DTEND;TZID=Europe/Berlin:20220408T220000
DTSTAMP:20260423T143655
CREATED:20220320T105903Z
LAST-MODIFIED:20220320T105903Z
UID:2182-1649444400-1649455200@www.alemannia-bonn.de
SUMMARY:Osteressen des Alemannenkreis Bonn
DESCRIPTION:
URL:https://www.alemannia-bonn.de/event/osteressen-des-alemannenkreis-bonn/
END:VEVENT
BEGIN:VEVENT
DTSTART;TZID=Europe/Berlin:20220409T200000
DTEND;TZID=Europe/Berlin:20220409T230000
DTSTAMP:20260423T143655
CREATED:20220320T105932Z
LAST-MODIFIED:20220320T105932Z
UID:2184-1649534400-1649545200@www.alemannia-bonn.de
SUMMARY:Semesterantrittskneipe
DESCRIPTION:
URL:https://www.alemannia-bonn.de/event/semesterantrittskneipe-2/
END:VEVENT
BEGIN:VEVENT
DTSTART;TZID=Europe/Berlin:20220413T200000
DTEND;TZID=Europe/Berlin:20220413T220000
DTSTAMP:20260423T143655
CREATED:20220320T110019Z
LAST-MODIFIED:20220320T110019Z
UID:2186-1649880000-1649887200@www.alemannia-bonn.de
SUMMARY:BA "Gutes Benehmen ist Herzensbildung - eine Empfehlung" mit Reinhard Kloiber
DESCRIPTION:
URL:https://www.alemannia-bonn.de/event/ba-gutes-benehmen-ist-herzensbildung-eine-empfehlung-mit-reinhard-kloiber/
END:VEVENT
BEGIN:VEVENT
DTSTART;TZID=Europe/Berlin:20220418T200000
DTEND;TZID=Europe/Berlin:20220418T220000
DTSTAMP:20260423T143655
CREATED:20220320T110049Z
LAST-MODIFIED:20220320T110049Z
UID:2188-1650312000-1650319200@www.alemannia-bonn.de
SUMMARY:1. ordentliche Versammlung
DESCRIPTION:
URL:https://www.alemannia-bonn.de/event/1-ordentliche-versammlung-2/
END:VEVENT
BEGIN:VEVENT
DTSTART;TZID=Europe/Berlin:20220427T200000
DTEND;TZID=Europe/Berlin:20220427T220000
DTSTAMP:20260423T143655
CREATED:20220320T110110Z
LAST-MODIFIED:20220320T110110Z
UID:2190-1651089600-1651096800@www.alemannia-bonn.de
SUMMARY:Singkränzchen
DESCRIPTION:
URL:https://www.alemannia-bonn.de/event/singkraenzchen-3/
END:VEVENT
BEGIN:VEVENT
DTSTART;VALUE=DATE:20220430
DTEND;VALUE=DATE:20220501
DTSTAMP:20260423T143655
CREATED:20220320T110129Z
LAST-MODIFIED:20220320T110129Z
UID:2192-1651276800-1651363199@www.alemannia-bonn.de
SUMMARY:Maiansingen
DESCRIPTION:
URL:https://www.alemannia-bonn.de/event/maiansingen/
END:VEVENT
END:VCALENDAR