BEGIN:VCALENDAR
VERSION:2.0
PRODID:-//B! Alemannia Bonn - ECPv6.15.20//NONSGML v1.0//EN
CALSCALE:GREGORIAN
METHOD:PUBLISH
X-WR-CALNAME:B! Alemannia Bonn
X-ORIGINAL-URL:https://www.alemannia-bonn.de
X-WR-CALDESC:Veranstaltungen für B! Alemannia Bonn
REFRESH-INTERVAL;VALUE=DURATION:PT1H
X-Robots-Tag:noindex
X-PUBLISHED-TTL:PT1H
BEGIN:VTIMEZONE
TZID:Europe/Berlin
BEGIN:DAYLIGHT
TZOFFSETFROM:+0100
TZOFFSETTO:+0200
TZNAME:CEST
DTSTART:20210328T010000
END:DAYLIGHT
BEGIN:STANDARD
TZOFFSETFROM:+0200
TZOFFSETTO:+0100
TZNAME:CET
DTSTART:20211031T010000
END:STANDARD
BEGIN:DAYLIGHT
TZOFFSETFROM:+0100
TZOFFSETTO:+0200
TZNAME:CEST
DTSTART:20220327T010000
END:DAYLIGHT
BEGIN:STANDARD
TZOFFSETFROM:+0200
TZOFFSETTO:+0100
TZNAME:CET
DTSTART:20221030T010000
END:STANDARD
BEGIN:DAYLIGHT
TZOFFSETFROM:+0100
TZOFFSETTO:+0200
TZNAME:CEST
DTSTART:20230326T010000
END:DAYLIGHT
BEGIN:STANDARD
TZOFFSETFROM:+0200
TZOFFSETTO:+0100
TZNAME:CET
DTSTART:20231029T010000
END:STANDARD
END:VTIMEZONE
BEGIN:VEVENT
DTSTART;TZID=Europe/Berlin:20220110T200000
DTEND;TZID=Europe/Berlin:20220110T200000
DTSTAMP:20260423T184625
CREATED:20210919T163726Z
LAST-MODIFIED:20211203T061009Z
UID:1902-1641844800-1641844800@www.alemannia-bonn.de
SUMMARY:Wahlversammlung
DESCRIPTION:
URL:https://www.alemannia-bonn.de/event/wahlversammlung/
END:VEVENT
BEGIN:VEVENT
DTSTART;TZID=Europe/Berlin:20220119T200000
DTEND;TZID=Europe/Berlin:20220119T200000
DTSTAMP:20260423T184625
CREATED:20210919T163747Z
LAST-MODIFIED:20211203T060958Z
UID:1904-1642622400-1642622400@www.alemannia-bonn.de
SUMMARY:Singkränzchen
DESCRIPTION:
URL:https://www.alemannia-bonn.de/event/singkraenzchen-2/
END:VEVENT
BEGIN:VEVENT
DTSTART;VALUE=DATE:20220122
DTEND;VALUE=DATE:20220123
DTSTAMP:20260423T184625
CREATED:20210919T163808Z
LAST-MODIFIED:20211203T060936Z
UID:1906-1642809600-1642895999@www.alemannia-bonn.de
SUMMARY:2. WRC Mensurtag
DESCRIPTION:
URL:https://www.alemannia-bonn.de/event/2-wrc-mensurtag/
END:VEVENT
BEGIN:VEVENT
DTSTART;TZID=Europe/Berlin:20220122T200000
DTEND;TZID=Europe/Berlin:20220122T200000
DTSTAMP:20260423T184625
CREATED:20210919T163828Z
LAST-MODIFIED:20211203T060923Z
UID:1909-1642881600-1642881600@www.alemannia-bonn.de
SUMMARY:Friderizianerkommers
DESCRIPTION:
URL:https://www.alemannia-bonn.de/event/friderizianerkommers/
END:VEVENT
BEGIN:VEVENT
DTSTART;TZID=Europe/Berlin:20220124T200000
DTEND;TZID=Europe/Berlin:20220124T200000
DTSTAMP:20260423T184625
CREATED:20210919T163848Z
LAST-MODIFIED:20211203T060911Z
UID:1911-1643054400-1643054400@www.alemannia-bonn.de
SUMMARY:Abschlussversammlung
DESCRIPTION:
URL:https://www.alemannia-bonn.de/event/abschlussversammlung/
END:VEVENT
END:VCALENDAR